BEGIN:VCALENDAR
VERSION:2.0
PRODID:-//Brian Collins Enterprises - ECPv4.5.10//NONSGML v1.0//EN
CALSCALE:GREGORIAN
METHOD:PUBLISH
X-WR-CALNAME:Brian Collins Enterprises
X-ORIGINAL-URL:http://briancollinsenterprises.ie
X-WR-CALDESC:Events for Brian Collins Enterprises
BEGIN:VEVENT
DTSTART;TZID=UTC+0:20161029T113000
DTEND;TZID=UTC+0:20161031T173000
DTSTAMP:20171101T003632
CREATED:20160802T180506Z
LAST-MODIFIED:20160802T180506Z
UID:428-1477740600-1477935000@briancollinsenterprises.ie
SUMMARY:Model Railway Exhibition
DESCRIPTION:Operated by Model Railway Society of Ireland. \nBrian Collins Enterprises confirmed for attendance. \n
URL:http://briancollinsenterprises.ie/event/model-railway-exhibition/
LOCATION: St. Paul's College\,  Sybil Hill Road\, Raheny\, Dublin 5\, D05 C673\, Ireland
ORGANIZER;CN="Brian%20Collins%20Enterprises":MAILTO:events@briancollinsenterprises.ie
END:VEVENT
END:VCALENDAR