BEGIN:VCALENDAR
VERSION:2.0
PRODID:-//Brian Collins Enterprises - ECPv4.5.10//NONSGML v1.0//EN
CALSCALE:GREGORIAN
METHOD:PUBLISH
X-WR-CALNAME:Brian Collins Enterprises
X-ORIGINAL-URL:http://briancollinsenterprises.ie
X-WR-CALDESC:Events for Brian Collins Enterprises
BEGIN:VEVENT
DTSTART;TZID=UTC+0:20161127T103000
DTEND;TZID=UTC+0:20161127T153000
DTSTAMP:20171101T003443
CREATED:20160526T181419Z
LAST-MODIFIED:20160804T182114Z
UID:368-1480242600-1480260600@briancollinsenterprises.ie
SUMMARY:Collectables Toy Fair
DESCRIPTION:Details coming soon&#8230; \n
URL:http://briancollinsenterprises.ie/event/collectables-toy-fair-3/
LOCATION:Dublin\, Ireland
END:VEVENT
END:VCALENDAR